BEGIN:VCALENDAR
VERSION:2.0
PRODID:-//Plone.org//NONSGML plone.app.event//EN
X-WR-TIMEZONE:Europe/Zurich
BEGIN:VEVENT
SUMMARY:Diplomfeier DELF/Cambridge
DTSTART;VALUE=DATE-TIME:20191114T180000Z
DTEND;VALUE=DATE-TIME:20191114T200000Z
DTSTAMP;VALUE=DATE-TIME:20260424T004726Z
UID:0ba341edc9294c8ea429a8098a79d1c9@127.0.0.1:10150
CREATED;VALUE=DATE-TIME:20190707T113728Z
LAST-MODIFIED;VALUE=DATE-TIME:20190707T113732Z
LOCATION:Foyer Gymnasium St. Antonius
URL:https://gymnasium.ai.ch/nuetzliches/termine/diplomfeier-delf-cambridge
 -1
END:VEVENT
END:VCALENDAR
