BEGIN:VCALENDAR
VERSION:2.0
PRODID:-//Plone.org//NONSGML plone.app.event//EN
X-WR-TIMEZONE:Europe/Zurich
BEGIN:VEVENT
SUMMARY:Verschoben auf 06.05.2021: Diplomfeier DELF/Cambridge
DTSTART;VALUE=DATE-TIME:20201112T180000Z
DTEND;VALUE=DATE-TIME:20201112T200000Z
DTSTAMP;VALUE=DATE-TIME:20260423T231431Z
UID:fe9095e18096455d8750a8f887e10839@127.0.0.1:10150
CREATED;VALUE=DATE-TIME:20201008T145005Z
LAST-MODIFIED;VALUE=DATE-TIME:20201110T163202Z
LOCATION:Foyer\, Gymnasium St. Antonius
URL:https://gymnasium.ai.ch/nuetzliches/termine/diplomfeier-delf-cambridge
 -2
END:VEVENT
END:VCALENDAR
