BEGIN:VCALENDAR
VERSION:2.0
PRODID:-//Plone.org//NONSGML plone.app.event//EN
X-WR-TIMEZONE:Europe/Zurich
BEGIN:VEVENT
SUMMARY:Abgesagt: Diplomfeier DELF/Cambridge
DTSTART;VALUE=DATE-TIME:20210506T170000Z
DTEND;VALUE=DATE-TIME:20210506T190000Z
DTSTAMP;VALUE=DATE-TIME:20260424T004726Z
UID:14986c30f2b84eb3a5a9ccaa7702699e@127.0.0.1:10150
CREATED;VALUE=DATE-TIME:20201104T075952Z
LAST-MODIFIED;VALUE=DATE-TIME:20210330T093459Z
LOCATION:Foyer\, Gymnasium St. Antonius
URL:https://gymnasium.ai.ch/nuetzliches/termine/diplomfeier-delf-cambridge
 -3
END:VEVENT
END:VCALENDAR
