BEGIN:VCALENDAR
VERSION:2.0
PRODID:-//Plone.org//NONSGML plone.app.event//EN
X-WR-TIMEZONE:Europe/Zurich
BEGIN:VEVENT
SUMMARY:Diplomfeier DELF/Cambridge
DTSTART;VALUE=DATE-TIME:20211118T180000Z
DTEND;VALUE=DATE-TIME:20211118T190000Z
DTSTAMP;VALUE=DATE-TIME:20260424T004726Z
UID:9828c8df57de469fa62845293eb87c06@127.0.0.1:10150
CREATED;VALUE=DATE-TIME:20211024T072610Z
LAST-MODIFIED;VALUE=DATE-TIME:20211028T150125Z
URL:https://gymnasium.ai.ch/nuetzliches/termine/diplomfeier-delf-cambridge
 -4
END:VEVENT
END:VCALENDAR
