BEGIN:VCALENDAR
VERSION:2.0
PRODID:-//Plone.org//NONSGML plone.app.event//EN
X-WR-TIMEZONE:Europe/Zurich
BEGIN:VEVENT
SUMMARY:Diplomfeier DELF/Cambridge
DTSTART;TZID=Europe/Vienna;VALUE=DATE-TIME:20221117T190000
DTEND;TZID=Europe/Vienna;VALUE=DATE-TIME:20221117T200000
DTSTAMP;VALUE=DATE-TIME:20260424T004445Z
UID:b07ea42000c349ea8b3483d2f62dd9ba@127.0.0.1:6081
CREATED;VALUE=DATE-TIME:20220711T201927Z
LAST-MODIFIED;VALUE=DATE-TIME:20221028T053645Z
URL:https://gymnasium.ai.ch/nuetzliches/termine/diplomfeier-delf-cambridge
 -5
END:VEVENT
BEGIN:VTIMEZONE
TZID:Europe/Vienna
X-LIC-LOCATION:Europe/Vienna
BEGIN:STANDARD
DTSTART;VALUE=DATE-TIME:20221030T020000
TZNAME:CET
TZOFFSETFROM:+0200
TZOFFSETTO:+0100
END:STANDARD
END:VTIMEZONE
END:VCALENDAR
