BEGIN:VCALENDAR
VERSION:2.0
PRODID:-//Plone.org//NONSGML plone.app.event//EN
X-WR-TIMEZONE:Europe/Zurich
BEGIN:VEVENT
SUMMARY:Diplomfeier DELF/Cambridge
DTSTART;TZID=Europe/Vienna;VALUE=DATE-TIME:20231116T190000
DTEND;TZID=Europe/Zurich;VALUE=DATE-TIME:20231116T200000
DTSTAMP;VALUE=DATE-TIME:20260423T231514Z
UID:080ea0ec2e8642a49dc9181c484a8350@127.0.0.1:6081
CREATED;VALUE=DATE-TIME:20230712T085133Z
LAST-MODIFIED;VALUE=DATE-TIME:20231025T092731Z
URL:https://gymnasium.ai.ch/nuetzliches/termine/diplomfeier-delf-cambridge
 -6
END:VEVENT
BEGIN:VTIMEZONE
TZID:Europe/Zurich
X-LIC-LOCATION:Europe/Zurich
BEGIN:STANDARD
DTSTART;VALUE=DATE-TIME:20231029T020000
TZNAME:CET
TZOFFSETFROM:+0200
TZOFFSETTO:+0100
END:STANDARD
END:VTIMEZONE
BEGIN:VTIMEZONE
TZID:Europe/Vienna
X-LIC-LOCATION:Europe/Vienna
BEGIN:STANDARD
DTSTART;VALUE=DATE-TIME:20231029T020000
TZNAME:CET
TZOFFSETFROM:+0200
TZOFFSETTO:+0100
END:STANDARD
END:VTIMEZONE
END:VCALENDAR
