BEGIN:VCALENDAR
VERSION:2.0
PRODID:-//Plone.org//NONSGML plone.app.event//EN
X-WR-TIMEZONE:Europe/Zurich
BEGIN:VEVENT
SUMMARY:Diplomfeier DELF/Cambridge
DTSTART;TZID=Europe/Zurich;VALUE=DATE-TIME:20241114T190000
DTEND;TZID=Europe/Zurich;VALUE=DATE-TIME:20241114T203000
DTSTAMP;VALUE=DATE-TIME:20260424T004420Z
UID:0dc3bb858b184f96b2ffa1219eec573d@127.0.0.1:6081
CREATED;VALUE=DATE-TIME:20240703T195711Z
LAST-MODIFIED;VALUE=DATE-TIME:20240703T195720Z
URL:https://gymnasium.ai.ch/nuetzliches/termine/diplomfeier-delf-cambridge
 -7
END:VEVENT
BEGIN:VTIMEZONE
TZID:Europe/Zurich
X-LIC-LOCATION:Europe/Zurich
BEGIN:STANDARD
DTSTART;VALUE=DATE-TIME:20241027T020000
TZNAME:CET
TZOFFSETFROM:+0200
TZOFFSETTO:+0100
END:STANDARD
END:VTIMEZONE
END:VCALENDAR
