BEGIN:VCALENDAR
VERSION:2.0
PRODID:-//Plone.org//NONSGML plone.app.event//EN
X-WR-TIMEZONE:Europe/Zurich
BEGIN:VEVENT
SUMMARY:Diplomfeier DELF/Cambridge
DTSTART;VALUE=DATE-TIME:20181115T180000Z
DTEND;VALUE=DATE-TIME:20181115T190000Z
DTSTAMP;VALUE=DATE-TIME:20260423T231339Z
UID:737920dc12ce4db7b6c59298dce36662@127.0.0.1:10150
CREATED;VALUE=DATE-TIME:20180928T120449Z
LAST-MODIFIED;VALUE=DATE-TIME:20181006T064933Z
LOCATION:Foyer
URL:https://gymnasium.ai.ch/nuetzliches/termine/diplomfeier-delf-cambridge
END:VEVENT
END:VCALENDAR
