BEGIN:VCALENDAR
VERSION:2.0
PRODID:-//Plone.org//NONSGML plone.app.event//EN
X-WR-TIMEZONE:Europe/Zurich
BEGIN:VEVENT
SUMMARY:Einschreiben Projektwoche: Herbst 2020
DTSTART;VALUE=DATE-TIME:20200624T091000Z
DTEND;VALUE=DATE-TIME:20200624T095500Z
DTSTAMP;VALUE=DATE-TIME:20260423T231615Z
UID:40bfd2703e4041cf9b9e2bb4ddfa11d9@127.0.0.1:10150
CREATED;VALUE=DATE-TIME:20200603T203758Z
LAST-MODIFIED;VALUE=DATE-TIME:20200603T203802Z
URL:https://gymnasium.ai.ch/nuetzliches/termine/einschreiben-projektwoche-
 herbst-2020
END:VEVENT
END:VCALENDAR
