BEGIN:VCALENDAR
VERSION:2.0
PRODID:-//Plone.org//NONSGML plone.app.event//EN
X-WR-TIMEZONE:Europe/Zurich
BEGIN:VEVENT
SUMMARY:Einschreibung Projektwoche Herbst 2021 (2.–4. Klassen)
DTSTART;VALUE=DATE-TIME:20210623T091500Z
DTEND;VALUE=DATE-TIME:20210623T095500Z
DTSTAMP;VALUE=DATE-TIME:20260424T004952Z
UID:324687d1c7954e46bd855f72cbfc1e61@127.0.0.1:10150
CREATED;VALUE=DATE-TIME:20210417T150718Z
LAST-MODIFIED;VALUE=DATE-TIME:20210417T183847Z
URL:https://gymnasium.ai.ch/nuetzliches/termine/einschreibung-projektwoche
 -herbst-2021-2-4-klassen
END:VEVENT
END:VCALENDAR
