BEGIN:VCALENDAR
VERSION:2.0
PRODID:-//Plone.org//NONSGML plone.app.event//EN
X-WR-TIMEZONE:Europe/Zurich
BEGIN:VEVENT
SUMMARY:Einschreibung Projektwoche Herbst 2022 (2. - 4. Klassen)
DTSTART;VALUE=DATE-TIME:20220622T091500Z
DTEND;VALUE=DATE-TIME:20220622T095500Z
DTSTAMP;VALUE=DATE-TIME:20260424T004951Z
UID:d51bb9d147e2479b8e44d39c6121bacd@127.0.0.1:10150
CREATED;VALUE=DATE-TIME:20220222T080017Z
LAST-MODIFIED;VALUE=DATE-TIME:20220222T080020Z
URL:https://gymnasium.ai.ch/nuetzliches/termine/einschreibung-projektwoche
 -herbst-2022-2-4-klassen
END:VEVENT
END:VCALENDAR
