BEGIN:VCALENDAR
VERSION:2.0
PRODID:-//Plone.org//NONSGML plone.app.event//EN
X-WR-TIMEZONE:Europe/Zurich
BEGIN:VEVENT
SUMMARY:Einschreibung Projektwoche Herbst 2024: 2. - 4. Klassen (11.15 - 1
 1.55 Uhr)
DTSTART;VALUE=DATE:20240619
DTEND;VALUE=DATE:20240620
DTSTAMP;VALUE=DATE-TIME:20260423T231817Z
UID:e1cfc77e24d54d98b04fc22e8096623a@127.0.0.1:6081
CREATED;VALUE=DATE-TIME:20240419T092812Z
LAST-MODIFIED;VALUE=DATE-TIME:20240420T065103Z
URL:https://gymnasium.ai.ch/nuetzliches/termine/einschreibung-projektwoche
 -herbst-2024-2-4-klassen-11-15-11-55-uhr
END:VEVENT
END:VCALENDAR
