BEGIN:VCALENDAR
VERSION:2.0
PRODID:-//Plone.org//NONSGML plone.app.event//EN
X-WR-TIMEZONE:Europe/Zurich
BEGIN:VEVENT
SUMMARY:Eltern-Gesprächstag 1. Gym (Vormittag)
DTSTART;VALUE=DATE-TIME:20181124T063000Z
DTEND;VALUE=DATE-TIME:20181124T110000Z
DTSTAMP;VALUE=DATE-TIME:20260424T004731Z
UID:a8b2c970e6c14aad92741a133833f8f4@127.0.0.1:10150
CREATED;VALUE=DATE-TIME:20180928T121501Z
LAST-MODIFIED;VALUE=DATE-TIME:20180928T150942Z
URL:https://gymnasium.ai.ch/nuetzliches/termine/eltern-gespraechstag-1-gym
 -vormittag
END:VEVENT
END:VCALENDAR
