BEGIN:VCALENDAR
VERSION:2.0
PRODID:-//Plone.org//NONSGML plone.app.event//EN
X-WR-TIMEZONE:Europe/Zurich
BEGIN:VEVENT
SUMMARY:Eltern-Gesprächstag 1. Klassen
DTSTART;TZID=Europe/Vienna;VALUE=DATE-TIME:20221126T073000
DTEND;TZID=Europe/Vienna;VALUE=DATE-TIME:20221126T140000
DTSTAMP;VALUE=DATE-TIME:20260424T004743Z
UID:b3510d3c32b84f1c91e63ee6bf2c6b12@127.0.0.1:6081
CREATED;VALUE=DATE-TIME:20220711T203203Z
LAST-MODIFIED;VALUE=DATE-TIME:20221123T144057Z
URL:https://gymnasium.ai.ch/nuetzliches/termine/eltern-gespraechstag-1-kla
 ssen-vormittag-1
END:VEVENT
BEGIN:VTIMEZONE
TZID:Europe/Vienna
X-LIC-LOCATION:Europe/Vienna
BEGIN:STANDARD
DTSTART;VALUE=DATE-TIME:20221030T020000
TZNAME:CET
TZOFFSETFROM:+0200
TZOFFSETTO:+0100
END:STANDARD
END:VTIMEZONE
END:VCALENDAR
