BEGIN:VCALENDAR
VERSION:2.0
PRODID:-//Plone.org//NONSGML plone.app.event//EN
X-WR-TIMEZONE:Europe/Zurich
BEGIN:VEVENT
SUMMARY:Eltern-Gesprächstag 1. Klassen
DTSTART;TZID=Europe/Vienna;VALUE=DATE-TIME:20231125T073000
DTEND;TZID=Europe/Zurich;VALUE=DATE-TIME:20231125T160000
DTSTAMP;VALUE=DATE-TIME:20260423T231525Z
UID:e69f7b371ac243fe8e99732d9c35a76c@127.0.0.1:6081
CREATED;VALUE=DATE-TIME:20230712T090611Z
LAST-MODIFIED;VALUE=DATE-TIME:20231120T082656Z
URL:https://gymnasium.ai.ch/nuetzliches/termine/eltern-gespraechstag-1-kla
 ssen-vormittag-2
END:VEVENT
BEGIN:VTIMEZONE
TZID:Europe/Zurich
X-LIC-LOCATION:Europe/Zurich
BEGIN:STANDARD
DTSTART;VALUE=DATE-TIME:20231029T020000
TZNAME:CET
TZOFFSETFROM:+0200
TZOFFSETTO:+0100
END:STANDARD
END:VTIMEZONE
BEGIN:VTIMEZONE
TZID:Europe/Vienna
X-LIC-LOCATION:Europe/Vienna
BEGIN:STANDARD
DTSTART;VALUE=DATE-TIME:20231029T020000
TZNAME:CET
TZOFFSETFROM:+0200
TZOFFSETTO:+0100
END:STANDARD
END:VTIMEZONE
END:VCALENDAR
