BEGIN:VCALENDAR
VERSION:2.0
PRODID:-//Plone.org//NONSGML plone.app.event//EN
X-WR-TIMEZONE:Europe/Zurich
BEGIN:VEVENT
SUMMARY:Eltern-Gesprächstag Klasse 1B (Vormittag)
DTSTART;VALUE=DATE:20241123
DTEND;VALUE=DATE:20241124
DTSTAMP;VALUE=DATE-TIME:20260424T004732Z
UID:cc42f2b6d63144058dd83a52f91e0572@127.0.0.1:6081
CREATED;VALUE=DATE-TIME:20240703T201103Z
LAST-MODIFIED;VALUE=DATE-TIME:20240924T141339Z
URL:https://gymnasium.ai.ch/nuetzliches/termine/eltern-gespraechstag-1-kla
 ssen-vormittag-3
END:VEVENT
END:VCALENDAR
