BEGIN:VCALENDAR
VERSION:2.0
PRODID:-//Plone.org//NONSGML plone.app.event//EN
X-WR-TIMEZONE:Europe/Zurich
BEGIN:VEVENT
SUMMARY:Eltern-Gesprächstag 1. Klassen (Vormittag)
DTSTART;VALUE=DATE:20251122
DTEND;VALUE=DATE:20251123
DTSTAMP;VALUE=DATE-TIME:20260424T004732Z
UID:b29666611de14336a104f6cee6f55ef1@127.0.0.1:6081
CREATED;VALUE=DATE-TIME:20250719T201138Z
LAST-MODIFIED;VALUE=DATE-TIME:20250719T201144Z
URL:https://gymnasium.ai.ch/nuetzliches/termine/eltern-gespraechstag-1-kla
 ssen-vormittag-4
END:VEVENT
END:VCALENDAR
