BEGIN:VCALENDAR
VERSION:2.0
PRODID:-//Plone.org//NONSGML plone.app.event//EN
X-WR-TIMEZONE:Europe/Zurich
BEGIN:VEVENT
SUMMARY:Eltern-Gesprächstag 1. Klassen
DTSTART;VALUE=DATE-TIME:20211127T063000Z
DTEND;VALUE=DATE-TIME:20211127T131000Z
DTSTAMP;VALUE=DATE-TIME:20260423T231525Z
UID:63dcb34d969b4509b93ba0fa73ee2aa8@127.0.0.1:10150
CREATED;VALUE=DATE-TIME:20211024T073449Z
LAST-MODIFIED;VALUE=DATE-TIME:20211124T080021Z
URL:https://gymnasium.ai.ch/nuetzliches/termine/eltern-gespraechstag-1-kla
 ssen-vormittag
END:VEVENT
END:VCALENDAR
