BEGIN:VCALENDAR
VERSION:2.0
PRODID:-//Plone.org//NONSGML plone.app.event//EN
X-WR-TIMEZONE:Europe/Zurich
BEGIN:VEVENT
SUMMARY:Eltern-Gesprächstag 1. Klassen
DTSTART;VALUE=DATE-TIME:20201121T063000Z
DTEND;VALUE=DATE-TIME:20201121T134500Z
DTSTAMP;VALUE=DATE-TIME:20260424T004414Z
UID:bbf68f91c49e454380035a12e800d8d1@127.0.0.1:10150
CREATED;VALUE=DATE-TIME:20200911T142704Z
LAST-MODIFIED;VALUE=DATE-TIME:20201117T145842Z
URL:https://gymnasium.ai.ch/nuetzliches/termine/eltern-gespraechstag-1-kla
 ssen
END:VEVENT
END:VCALENDAR
