BEGIN:VCALENDAR
VERSION:2.0
PRODID:-//Plone.org//NONSGML plone.app.event//EN
X-WR-TIMEZONE:Europe/Zurich
BEGIN:VEVENT
SUMMARY:Eltern-Gesprächstag 3. Gym (Vormittag)
DTSTART;VALUE=DATE-TIME:20191130T063000Z
DTEND;VALUE=DATE-TIME:20191130T110000Z
DTSTAMP;VALUE=DATE-TIME:20260423T231600Z
UID:2d76be128abe47dda03be02e2739ced8@127.0.0.1:10150
CREATED;VALUE=DATE-TIME:20190707T114155Z
LAST-MODIFIED;VALUE=DATE-TIME:20190707T114159Z
LOCATION:Gymnasium St. Antonius
URL:https://gymnasium.ai.ch/nuetzliches/termine/eltern-gespraechstag-3-gym
 -vormittag-1
END:VEVENT
END:VCALENDAR
