BEGIN:VCALENDAR
VERSION:2.0
PRODID:-//Plone.org//NONSGML plone.app.event//EN
X-WR-TIMEZONE:Europe/Zurich
BEGIN:VEVENT
SUMMARY:Eltern-Gesprächstag 3. Gym (Vormittag)
DTSTART;VALUE=DATE-TIME:20181201T063000Z
DTEND;VALUE=DATE-TIME:20181201T110000Z
DTSTAMP;VALUE=DATE-TIME:20260424T004724Z
UID:20aaf13b86304f5b91167b185eaedf84@127.0.0.1:10150
CREATED;VALUE=DATE-TIME:20180928T121741Z
LAST-MODIFIED;VALUE=DATE-TIME:20180928T150943Z
URL:https://gymnasium.ai.ch/nuetzliches/termine/eltern-gespraechstag-3-gym
 -vormittag
END:VEVENT
END:VCALENDAR
