BEGIN:VCALENDAR
VERSION:2.0
PRODID:-//Plone.org//NONSGML plone.app.event//EN
X-WR-TIMEZONE:Europe/Zurich
BEGIN:VEVENT
SUMMARY:Eltern-Gesprächstag 3. Klassen (Vormittag)
DTSTART;TZID=Europe/Vienna;VALUE=DATE-TIME:20231202T073000
DTEND;TZID=Europe/Vienna;VALUE=DATE-TIME:20231202T120000
DTSTAMP;VALUE=DATE-TIME:20260423T231525Z
UID:8c55c68bad84464a94ff8da8b47bd032@127.0.0.1:6081
CREATED;VALUE=DATE-TIME:20230712T090719Z
LAST-MODIFIED;VALUE=DATE-TIME:20230712T090727Z
URL:https://gymnasium.ai.ch/nuetzliches/termine/eltern-gespraechstag-3-kla
 ssen-vormittag-2
END:VEVENT
BEGIN:VTIMEZONE
TZID:Europe/Vienna
X-LIC-LOCATION:Europe/Vienna
BEGIN:STANDARD
DTSTART;VALUE=DATE-TIME:20231029T020000
TZNAME:CET
TZOFFSETFROM:+0200
TZOFFSETTO:+0100
END:STANDARD
END:VTIMEZONE
END:VCALENDAR
