BEGIN:VCALENDAR
VERSION:2.0
PRODID:-//Plone.org//NONSGML plone.app.event//EN
X-WR-TIMEZONE:Europe/Zurich
BEGIN:VEVENT
SUMMARY:Eltern-Gesprächstag 3. Klassen (Vormittag)
DTSTART;VALUE=DATE:20241130
DTEND;VALUE=DATE:20241201
DTSTAMP;VALUE=DATE-TIME:20260423T231524Z
UID:1ce1ecd46b1d4a34a1c9ddd4841242a7@127.0.0.1:6081
CREATED;VALUE=DATE-TIME:20240924T141848Z
LAST-MODIFIED;VALUE=DATE-TIME:20240924T141854Z
URL:https://gymnasium.ai.ch/nuetzliches/termine/eltern-gespraechstag-3-kla
 ssen-vormittag-3
END:VEVENT
END:VCALENDAR
