BEGIN:VCALENDAR
VERSION:2.0
PRODID:-//Plone.org//NONSGML plone.app.event//EN
X-WR-TIMEZONE:Europe/Zurich
BEGIN:VEVENT
SUMMARY:Eltern-Gesprächstag 3. Klassen (Vormittag)
DTSTART;VALUE=DATE:20251129
DTEND;VALUE=DATE:20251130
DTSTAMP;VALUE=DATE-TIME:20260424T004724Z
UID:8b087e6997b14645b96bb73232deb3c6@127.0.0.1:6081
CREATED;VALUE=DATE-TIME:20250719T201435Z
LAST-MODIFIED;VALUE=DATE-TIME:20250719T201441Z
URL:https://gymnasium.ai.ch/nuetzliches/termine/eltern-gespraechstag-3-kla
 ssen-vormittag-4
END:VEVENT
END:VCALENDAR
