BEGIN:VCALENDAR
VERSION:2.0
PRODID:-//Plone.org//NONSGML plone.app.event//EN
X-WR-TIMEZONE:Europe/Zurich
BEGIN:VEVENT
SUMMARY:Eltern-Gesprächstag 3. Klassen (Vormittag)
DTSTART;VALUE=DATE-TIME:20211204T063000Z
DTEND;VALUE=DATE-TIME:20211204T110000Z
DTSTAMP;VALUE=DATE-TIME:20260423T231531Z
UID:9afa4fdedcc843e9a0ff97aafb22df65@127.0.0.1:10150
CREATED;VALUE=DATE-TIME:20211024T073921Z
LAST-MODIFIED;VALUE=DATE-TIME:20211024T073925Z
URL:https://gymnasium.ai.ch/nuetzliches/termine/eltern-gespraechstag-3-kla
 ssen-vormittag
END:VEVENT
END:VCALENDAR
