BEGIN:VCALENDAR
VERSION:2.0
PRODID:-//Plone.org//NONSGML plone.app.event//EN
X-WR-TIMEZONE:Europe/Zurich
BEGIN:VEVENT
SUMMARY:Eltern-Gesprächstag 3. Klassen
DTSTART;VALUE=DATE-TIME:20201128T063000Z
DTEND;VALUE=DATE-TIME:20201128T124500Z
DTSTAMP;VALUE=DATE-TIME:20260423T231432Z
UID:8f49fb3db56a42b78296ce81465eb7e0@127.0.0.1:10150
CREATED;VALUE=DATE-TIME:20200911T142825Z
LAST-MODIFIED;VALUE=DATE-TIME:20201125T084034Z
URL:https://gymnasium.ai.ch/nuetzliches/termine/eltern-gespraechstag-3-kla
 ssen
END:VEVENT
END:VCALENDAR
