BEGIN:VCALENDAR
VERSION:2.0
PRODID:-//Plone.org//NONSGML plone.app.event//EN
X-WR-TIMEZONE:Europe/Zurich
BEGIN:VEVENT
SUMMARY:Elternabend 6. Klassen - Informationsabend «Maturität/Studienber
 atung»
DTSTART;VALUE=DATE-TIME:20210920T180000Z
DTEND;VALUE=DATE-TIME:20210920T193000Z
DTSTAMP;VALUE=DATE-TIME:20260424T004952Z
UID:db9861baa5f5406eaca0faa7171e0367@127.0.0.1:10150
CREATED;VALUE=DATE-TIME:20210826T054934Z
LAST-MODIFIED;VALUE=DATE-TIME:20210826T054939Z
URL:https://gymnasium.ai.ch/nuetzliches/termine/elternabend-6-klassen-info
 rmationsabend-maturitaet-studienberatung
END:VEVENT
END:VCALENDAR
