BEGIN:VCALENDAR
VERSION:2.0
PRODID:-//Plone.org//NONSGML plone.app.event//EN
X-WR-TIMEZONE:Europe/Zurich
BEGIN:VEVENT
SUMMARY:Elternabend Fremdsprachenaufenthalt 4. Gym
DTSTART;VALUE=DATE-TIME:20200311T180000Z
DTEND;VALUE=DATE-TIME:20200311T203000Z
DTSTAMP;VALUE=DATE-TIME:20260423T231655Z
UID:7dc1c915ea964dc494432eb89677fe95@127.0.0.1:10150
CREATED;VALUE=DATE-TIME:20200221T172146Z
LAST-MODIFIED;VALUE=DATE-TIME:20200221T172209Z
LOCATION:Mensa Gymnasium St. Antonius
URL:https://gymnasium.ai.ch/nuetzliches/termine/elternabend-fremdsprachena
 ufenthalt-4-gym-1
END:VEVENT
END:VCALENDAR
