BEGIN:VCALENDAR
VERSION:2.0
PRODID:-//Plone.org//NONSGML plone.app.event//EN
X-WR-TIMEZONE:Europe/Zurich
BEGIN:VEVENT
SUMMARY:Elternabend Fremdsprachenaufenthalt 4. Gym
DTSTART;VALUE=DATE-TIME:20190905T170000Z
DTEND;VALUE=DATE-TIME:20190905T190000Z
DTSTAMP;VALUE=DATE-TIME:20260423T231617Z
UID:cdbe5fce4118412e90de780e1d4b5146@127.0.0.1:10150
CREATED;VALUE=DATE-TIME:20190707T112339Z
LAST-MODIFIED;VALUE=DATE-TIME:20190707T112347Z
LOCATION:Foyer Gymnasium St. Antonius
URL:https://gymnasium.ai.ch/nuetzliches/termine/elternabend-fremdsprachena
 ufenthalt-4-gym
END:VEVENT
END:VCALENDAR
