BEGIN:VCALENDAR
VERSION:2.0
PRODID:-//Plone.org//NONSGML plone.app.event//EN
X-WR-TIMEZONE:Europe/Zurich
BEGIN:VEVENT
SUMMARY:Elternabend Fremdsprachenaufenthalt: 4. Klassen
DTSTART;VALUE=DATE-TIME:20220323T180000Z
DTEND;VALUE=DATE-TIME:20220323T193000Z
DTSTAMP;VALUE=DATE-TIME:20260423T231615Z
UID:203cbabc8af34b97b6d495858ce3089c@127.0.0.1:10150
CREATED;VALUE=DATE-TIME:20220118T103018Z
LAST-MODIFIED;VALUE=DATE-TIME:20220118T103204Z
URL:https://gymnasium.ai.ch/nuetzliches/termine/elternabend-fremdsprachena
 ufenthalt-4-klassen-1
END:VEVENT
END:VCALENDAR
