BEGIN:VCALENDAR
VERSION:2.0
PRODID:-//Plone.org//NONSGML plone.app.event//EN
X-WR-TIMEZONE:Europe/Zurich
BEGIN:VEVENT
SUMMARY:Elternabend Fremdsprachenaufenthalt 4. Klasse
DTSTART;VALUE=DATE-TIME:20200903T170000Z
DTEND;VALUE=DATE-TIME:20200903T190000Z
DTSTAMP;VALUE=DATE-TIME:20260423T231804Z
UID:9cc15bc25aab4dcea9c39a320acda6d4@127.0.0.1:10150
CREATED;VALUE=DATE-TIME:20200901T064505Z
LAST-MODIFIED;VALUE=DATE-TIME:20200903T073724Z
LOCATION:Foyer\, Gymnasium St. Antonius
URL:https://gymnasium.ai.ch/nuetzliches/termine/elternabend-fremdsprachena
 ufenthalt-4-klassen-19-00-uhr-foyer
END:VEVENT
END:VCALENDAR
