BEGIN:VCALENDAR
VERSION:2.0
PRODID:-//Plone.org//NONSGML plone.app.event//EN
X-WR-TIMEZONE:Europe/Zurich
BEGIN:VEVENT
SUMMARY:Elternabend Fremdsprachenaufenthalt 4. Klassen
DTSTART;TZID=Europe/Zurich;VALUE=DATE-TIME:20240319T190000
DTEND;TZID=Europe/Zurich;VALUE=DATE-TIME:20240319T203000
DTSTAMP;VALUE=DATE-TIME:20260424T020827Z
UID:360e97e2a77445e4aed1bd262eba0852@127.0.0.1:6081
CREATED;VALUE=DATE-TIME:20240202T153119Z
LAST-MODIFIED;VALUE=DATE-TIME:20240202T153209Z
URL:https://gymnasium.ai.ch/nuetzliches/termine/elternabend-fremdsprachena
 ufenthalt-4-klassen-19-00-uhr
END:VEVENT
BEGIN:VTIMEZONE
TZID:Europe/Zurich
X-LIC-LOCATION:Europe/Zurich
BEGIN:STANDARD
DTSTART;VALUE=DATE-TIME:20231029T020000
TZNAME:CET
TZOFFSETFROM:+0200
TZOFFSETTO:+0100
END:STANDARD
END:VTIMEZONE
END:VCALENDAR
