BEGIN:VCALENDAR
VERSION:2.0
PRODID:-//Plone.org//NONSGML plone.app.event//EN
X-WR-TIMEZONE:Europe/Zurich
BEGIN:VEVENT
SUMMARY:Elternabend Fremdsprachenaufenthalt 4. Klassen
DTSTART;TZID=Europe/Vienna;VALUE=DATE-TIME:20220905T190000
DTEND;TZID=Europe/Vienna;VALUE=DATE-TIME:20220905T210000
DTSTAMP;VALUE=DATE-TIME:20260423T231542Z
UID:7e1494cd1a464db091e8bb3ef51e56d2@127.0.0.1:6081
CREATED;VALUE=DATE-TIME:20220810T142455Z
LAST-MODIFIED;VALUE=DATE-TIME:20220810T142545Z
URL:https://gymnasium.ai.ch/nuetzliches/termine/elternabend-fremdsprachena
 ufenthalt-4-klassen-2
END:VEVENT
BEGIN:VTIMEZONE
TZID:Europe/Vienna
X-LIC-LOCATION:Europe/Vienna
BEGIN:DAYLIGHT
DTSTART;VALUE=DATE-TIME:20220327T030000
TZNAME:CEST
TZOFFSETFROM:+0100
TZOFFSETTO:+0200
END:DAYLIGHT
END:VTIMEZONE
END:VCALENDAR
