BEGIN:VCALENDAR
VERSION:2.0
PRODID:-//Plone.org//NONSGML plone.app.event//EN
X-WR-TIMEZONE:Europe/Zurich
BEGIN:VEVENT
SUMMARY:Elternabend Fremdsprachenaufenthalt 4. Klassen
DTSTART;TZID=Europe/Vienna;VALUE=DATE-TIME:20230322T190000
DTEND;TZID=Europe/Vienna;VALUE=DATE-TIME:20230322T203000
DTSTAMP;VALUE=DATE-TIME:20260423T231620Z
UID:01c4b080f1bf48f8bdbf3f3ff73a460f@127.0.0.1:6081
CREATED;VALUE=DATE-TIME:20221013T152639Z
LAST-MODIFIED;VALUE=DATE-TIME:20221013T152645Z
URL:https://gymnasium.ai.ch/nuetzliches/termine/elternabend-fremdsprachena
 ufenthalt-4-klassen-3
END:VEVENT
BEGIN:VTIMEZONE
TZID:Europe/Vienna
X-LIC-LOCATION:Europe/Vienna
BEGIN:STANDARD
DTSTART;VALUE=DATE-TIME:20221030T020000
TZNAME:CET
TZOFFSETFROM:+0200
TZOFFSETTO:+0100
END:STANDARD
END:VTIMEZONE
END:VCALENDAR
