BEGIN:VCALENDAR
VERSION:2.0
PRODID:-//Plone.org//NONSGML plone.app.event//EN
X-WR-TIMEZONE:Europe/Zurich
BEGIN:VEVENT
SUMMARY:Elternabend Fremdsprachenaufenthalt 4. Klassen
DTSTART;TZID=Europe/Vienna;VALUE=DATE-TIME:20230828T190000
DTEND;TZID=Europe/Vienna;VALUE=DATE-TIME:20230828T210000
DTSTAMP;VALUE=DATE-TIME:20260423T231620Z
UID:54ccf88dee464b4c8dea9b5323eab302@127.0.0.1:6081
CREATED;VALUE=DATE-TIME:20230712T082606Z
LAST-MODIFIED;VALUE=DATE-TIME:20230712T082616Z
URL:https://gymnasium.ai.ch/nuetzliches/termine/elternabend-fremdsprachena
 ufenthalt-4-klassen-4
END:VEVENT
BEGIN:VTIMEZONE
TZID:Europe/Vienna
X-LIC-LOCATION:Europe/Vienna
BEGIN:DAYLIGHT
DTSTART;VALUE=DATE-TIME:20230326T030000
TZNAME:CEST
TZOFFSETFROM:+0100
TZOFFSETTO:+0200
END:DAYLIGHT
END:VTIMEZONE
END:VCALENDAR
