BEGIN:VCALENDAR
VERSION:2.0
PRODID:-//Plone.org//NONSGML plone.app.event//EN
X-WR-TIMEZONE:Europe/Zurich
BEGIN:VEVENT
SUMMARY:Elternabend Fremdsprachenaufenthalt 4. Klassen
DTSTART;TZID=Europe/Zurich;VALUE=DATE-TIME:20240826T190000
DTEND;TZID=Europe/Zurich;VALUE=DATE-TIME:20240826T210000
DTSTAMP;VALUE=DATE-TIME:20260423T231616Z
UID:b137e1c3d20d48209eda9a3dbf016ca5@127.0.0.1:6081
CREATED;VALUE=DATE-TIME:20240703T210425Z
LAST-MODIFIED;VALUE=DATE-TIME:20240703T210430Z
URL:https://gymnasium.ai.ch/nuetzliches/termine/elternabend-fremdsprachena
 ufenthalt-4-klassen-5
END:VEVENT
BEGIN:VTIMEZONE
TZID:Europe/Zurich
X-LIC-LOCATION:Europe/Zurich
BEGIN:DAYLIGHT
DTSTART;VALUE=DATE-TIME:20240331T030000
TZNAME:CEST
TZOFFSETFROM:+0100
TZOFFSETTO:+0200
END:DAYLIGHT
END:VTIMEZONE
END:VCALENDAR
