BEGIN:VCALENDAR
VERSION:2.0
PRODID:-//Plone.org//NONSGML plone.app.event//EN
X-WR-TIMEZONE:Europe/Zurich
BEGIN:VEVENT
SUMMARY:Elternabend Fremdsprachenaufenthalt 4. Klassen
DTSTART;TZID=Europe/Zurich;VALUE=DATE-TIME:20250825T190000
DTEND;TZID=Europe/Zurich;VALUE=DATE-TIME:20250825T203000
DTSTAMP;VALUE=DATE-TIME:20260423T231616Z
UID:ea651bdc3d6949b28e1e6d96d77fdd52@127.0.0.1:6081
CREATED;VALUE=DATE-TIME:20250719T060711Z
LAST-MODIFIED;VALUE=DATE-TIME:20250719T060716Z
URL:https://gymnasium.ai.ch/nuetzliches/termine/elternabend-fremdsprachena
 ufenthalt-4-klassen-6
END:VEVENT
BEGIN:VTIMEZONE
TZID:Europe/Zurich
X-LIC-LOCATION:Europe/Zurich
BEGIN:DAYLIGHT
DTSTART;VALUE=DATE-TIME:20250330T030000
TZNAME:CEST
TZOFFSETFROM:+0100
TZOFFSETTO:+0200
END:DAYLIGHT
END:VTIMEZONE
END:VCALENDAR
