BEGIN:VCALENDAR
VERSION:2.0
PRODID:-//Plone.org//NONSGML plone.app.event//EN
X-WR-TIMEZONE:Europe/Zurich
BEGIN:VEVENT
SUMMARY:Elternabend Fremdsprachenaufenthalt 4. Klassen
DTSTART;VALUE=DATE-TIME:20210902T170000Z
DTEND;VALUE=DATE-TIME:20210902T190000Z
DTSTAMP;VALUE=DATE-TIME:20260424T004732Z
UID:ebed48eddcff4e1b8baa0f63ab0ad751@127.0.0.1:10150
CREATED;VALUE=DATE-TIME:20210817T065530Z
LAST-MODIFIED;VALUE=DATE-TIME:20210817T065533Z
LOCATION:Foyer Gymnasium St. Antonius
URL:https://gymnasium.ai.ch/nuetzliches/termine/elternabend-fremdsprachena
 ufenthalt-4-klassen
END:VEVENT
END:VCALENDAR
