BEGIN:VCALENDAR
VERSION:2.0
PRODID:-//Plone.org//NONSGML plone.app.event//EN
X-WR-TIMEZONE:Europe/Zurich
BEGIN:VEVENT
SUMMARY:Elternabend LHF Freifach Englisch First
DTSTART;TZID=Europe/Vienna;VALUE=DATE-TIME:20220818T190000
DTEND;TZID=Europe/Vienna;VALUE=DATE-TIME:20220818T203000
DTSTAMP;VALUE=DATE-TIME:20260423T231514Z
UID:cf5a019630f146328e5aec76127af6f6@127.0.0.1:6081
CREATED;VALUE=DATE-TIME:20220810T141756Z
LAST-MODIFIED;VALUE=DATE-TIME:20220810T141805Z
URL:https://gymnasium.ai.ch/nuetzliches/termine/elternabend-lhf-freifach-e
 nglisch-first-1
END:VEVENT
BEGIN:VTIMEZONE
TZID:Europe/Vienna
X-LIC-LOCATION:Europe/Vienna
BEGIN:DAYLIGHT
DTSTART;VALUE=DATE-TIME:20220327T030000
TZNAME:CEST
TZOFFSETFROM:+0100
TZOFFSETTO:+0200
END:DAYLIGHT
END:VTIMEZONE
END:VCALENDAR
