BEGIN:VCALENDAR
VERSION:2.0
PRODID:-//Plone.org//NONSGML plone.app.event//EN
X-WR-TIMEZONE:Europe/Zurich
BEGIN:VEVENT
SUMMARY:Elternabend LHF Freifach Englisch First
DTSTART;VALUE=DATE-TIME:20210817T170000Z
DTEND;VALUE=DATE-TIME:20210817T183000Z
DTSTAMP;VALUE=DATE-TIME:20260424T004726Z
UID:8b8d619813604ced8be717aa271c21d3@127.0.0.1:10150
CREATED;VALUE=DATE-TIME:20210817T065302Z
LAST-MODIFIED;VALUE=DATE-TIME:20210817T065309Z
LOCATION:Mensa Gymnasium St. Antonius
URL:https://gymnasium.ai.ch/nuetzliches/termine/elternabend-lhf-freifach-e
 nglisch-first
END:VEVENT
END:VCALENDAR
