BEGIN:VCALENDAR
VERSION:2.0
PRODID:-//Plone.org//NONSGML plone.app.event//EN
X-WR-TIMEZONE:Europe/Zurich
BEGIN:VEVENT
SUMMARY:Elternabend LHF Freifach English First
DTSTART;TZID=Europe/Zurich;VALUE=DATE-TIME:20240827T190000
DTEND;TZID=Europe/Zurich;VALUE=DATE-TIME:20240827T203000
DTSTAMP;VALUE=DATE-TIME:20260423T231512Z
UID:e830b09b68704c0fb4802647540325da@127.0.0.1:6081
CREATED;VALUE=DATE-TIME:20240703T210921Z
LAST-MODIFIED;VALUE=DATE-TIME:20240703T210927Z
URL:https://gymnasium.ai.ch/nuetzliches/termine/elternabend-lhf-freifach-e
 nglish-first
END:VEVENT
BEGIN:VTIMEZONE
TZID:Europe/Zurich
X-LIC-LOCATION:Europe/Zurich
BEGIN:DAYLIGHT
DTSTART;VALUE=DATE-TIME:20240331T030000
TZNAME:CEST
TZOFFSETFROM:+0100
TZOFFSETTO:+0200
END:DAYLIGHT
END:VTIMEZONE
END:VCALENDAR
