BEGIN:VCALENDAR
VERSION:2.0
PRODID:-//Plone.org//NONSGML plone.app.event//EN
X-WR-TIMEZONE:Europe/Zurich
BEGIN:VEVENT
SUMMARY:Elternabend für Quereinsteigerinnen und Quereinsteiger 3. Gym: Sc
 huljahr 2022/23
DTSTART;VALUE=DATE-TIME:20220427T173000Z
DTEND;VALUE=DATE-TIME:20220427T190000Z
DTSTAMP;VALUE=DATE-TIME:20260423T231615Z
UID:a55681fa7cf74cc8ba708004e0553903@127.0.0.1:10150
CREATED;VALUE=DATE-TIME:20220207T145039Z
LAST-MODIFIED;VALUE=DATE-TIME:20220408T195300Z
URL:https://gymnasium.ai.ch/nuetzliches/termine/elternabend-quereinsteiger
 -innen-3-gym-1
END:VEVENT
END:VCALENDAR
