BEGIN:VCALENDAR
VERSION:2.0
PRODID:-//Plone.org//NONSGML plone.app.event//EN
X-WR-TIMEZONE:Europe/Zurich
BEGIN:VEVENT
SUMMARY:Elternabend QuereinsteigerInnen 3. Gym.
DTSTART;TZID=Europe/Vienna;VALUE=DATE-TIME:20230503T193000
DTEND;TZID=Europe/Vienna;VALUE=DATE-TIME:20230503T210000
DTSTAMP;VALUE=DATE-TIME:20260424T004724Z
UID:894c1054abb04843876d7cced13874b5@127.0.0.1:6081
CREATED;VALUE=DATE-TIME:20230423T072122Z
LAST-MODIFIED;VALUE=DATE-TIME:20230423T072130Z
URL:https://gymnasium.ai.ch/nuetzliches/termine/elternabend-quereinsteiger
 innen-3-gym
END:VEVENT
BEGIN:VTIMEZONE
TZID:Europe/Vienna
X-LIC-LOCATION:Europe/Vienna
BEGIN:DAYLIGHT
DTSTART;VALUE=DATE-TIME:20230326T030000
TZNAME:CEST
TZOFFSETFROM:+0100
TZOFFSETTO:+0200
END:DAYLIGHT
END:VTIMEZONE
END:VCALENDAR
