BEGIN:VCALENDAR
VERSION:2.0
PRODID:-//Plone.org//NONSGML plone.app.event//EN
X-WR-TIMEZONE:Europe/Zurich
BEGIN:VEVENT
SUMMARY:Elternabend Quereinsteiger 3. Gym.
DTSTART;TZID=Europe/Zurich;VALUE=DATE-TIME:20250430T193000
DTEND;TZID=Europe/Zurich;VALUE=DATE-TIME:20250430T210000
DTSTAMP;VALUE=DATE-TIME:20260423T231829Z
UID:06f523e1b9cf4a60b98055a83fa0b4ed@127.0.0.1:6081
CREATED;VALUE=DATE-TIME:20250226T074439Z
LAST-MODIFIED;VALUE=DATE-TIME:20250226T074548Z
URL:https://gymnasium.ai.ch/nuetzliches/termine/elternabend-quereinsteiger
 innen-und-quereinsteiger-3-gym
END:VEVENT
BEGIN:VTIMEZONE
TZID:Europe/Zurich
X-LIC-LOCATION:Europe/Zurich
BEGIN:DAYLIGHT
DTSTART;VALUE=DATE-TIME:20250330T030000
TZNAME:CEST
TZOFFSETFROM:+0100
TZOFFSETTO:+0200
END:DAYLIGHT
END:VTIMEZONE
END:VCALENDAR
