BEGIN:VCALENDAR
VERSION:2.0
PRODID:-//Plone.org//NONSGML plone.app.event//EN
X-WR-TIMEZONE:Europe/Zurich
BEGIN:VEVENT
SUMMARY:Elternabend Schwerpunktfach SJ 2023/24: Information 2. Klassen/Que
 reinsteigerInnen
DTSTART;TZID=Europe/Vienna;VALUE=DATE-TIME:20230515T190000
DTEND;TZID=Europe/Vienna;VALUE=DATE-TIME:20230515T203000
DTSTAMP;VALUE=DATE-TIME:20260423T231700Z
UID:4622f6215ede4e2dbacf251744603ed2@127.0.0.1:6081
CREATED;VALUE=DATE-TIME:20221013T170258Z
LAST-MODIFIED;VALUE=DATE-TIME:20230423T071435Z
URL:https://gymnasium.ai.ch/nuetzliches/termine/elternabend-schwerpunktfac
 h-2023-24-information-2-klassen-quereinsteiger
END:VEVENT
BEGIN:VTIMEZONE
TZID:Europe/Vienna
X-LIC-LOCATION:Europe/Vienna
BEGIN:DAYLIGHT
DTSTART;VALUE=DATE-TIME:20230326T030000
TZNAME:CEST
TZOFFSETFROM:+0100
TZOFFSETTO:+0200
END:DAYLIGHT
END:VTIMEZONE
END:VCALENDAR
