BEGIN:VCALENDAR
VERSION:2.0
PRODID:-//Plone.org//NONSGML plone.app.event//EN
X-WR-TIMEZONE:Europe/Zurich
BEGIN:VEVENT
SUMMARY:Elternabend Schwerpunktfach SJ 2024/25: Information 2. Klassen/Que
 reinsteigerinnen und Quereinsteiger
DTSTART;TZID=Europe/Zurich;VALUE=DATE-TIME:20240513T190000
DTEND;TZID=Europe/Zurich;VALUE=DATE-TIME:20240513T203000
DTSTAMP;VALUE=DATE-TIME:20260423T231817Z
UID:508ef84db1df4e4da4d4f7170566a523@127.0.0.1:6081
CREATED;VALUE=DATE-TIME:20240202T160909Z
LAST-MODIFIED;VALUE=DATE-TIME:20240202T160914Z
URL:https://gymnasium.ai.ch/nuetzliches/termine/elternabend-schwerpunktfac
 h-sj-2024-25-information-2-klassen-quereinsteigerinnen-und-quereinsteiger
END:VEVENT
BEGIN:VTIMEZONE
TZID:Europe/Zurich
X-LIC-LOCATION:Europe/Zurich
BEGIN:DAYLIGHT
DTSTART;VALUE=DATE-TIME:20240331T030000
TZNAME:CEST
TZOFFSETFROM:+0100
TZOFFSETTO:+0200
END:DAYLIGHT
END:VTIMEZONE
END:VCALENDAR
