BEGIN:VCALENDAR
VERSION:2.0
PRODID:-//Plone.org//NONSGML plone.app.event//EN
X-WR-TIMEZONE:Europe/Zurich
BEGIN:VEVENT
SUMMARY:Informationsabend «Wahl Schwerpunktfach 3. Gym.» (2. Klassen/Que
 reinsteiger)
DTSTART;TZID=Europe/Zurich;VALUE=DATE-TIME:20250512T190000
DTEND;TZID=Europe/Zurich;VALUE=DATE-TIME:20250512T203000
DTSTAMP;VALUE=DATE-TIME:20260423T231219Z
UID:da86966b47e241aea54364f5e6b3099d@127.0.0.1:6081
CREATED;VALUE=DATE-TIME:20250510T075653Z
LAST-MODIFIED;VALUE=DATE-TIME:20250510T080530Z
URL:https://gymnasium.ai.ch/nuetzliches/termine/elternabend-spf
END:VEVENT
BEGIN:VTIMEZONE
TZID:Europe/Zurich
X-LIC-LOCATION:Europe/Zurich
BEGIN:DAYLIGHT
DTSTART;VALUE=DATE-TIME:20250330T030000
TZNAME:CEST
TZOFFSETFROM:+0100
TZOFFSETTO:+0200
END:DAYLIGHT
END:VTIMEZONE
END:VCALENDAR
