BEGIN:VCALENDAR
VERSION:2.0
PRODID:-//Plone.org//NONSGML plone.app.event//EN
X-WR-TIMEZONE:Europe/Zurich
BEGIN:VEVENT
SUMMARY:Elterngesprächstag 1. Gym
DTSTART;VALUE=DATE-TIME:20171125T063000Z
DTEND;VALUE=DATE-TIME:20171125T110000Z
DTSTAMP;VALUE=DATE-TIME:20260424T004420Z
UID:76ea64c634ce4e1c96691b5cc3b4f083@127.0.0.1:10150
CREATED;VALUE=DATE-TIME:20171122T100032Z
LAST-MODIFIED;VALUE=DATE-TIME:20171130T141018Z
LOCATION:Gymnasium
URL:https://gymnasium.ai.ch/nuetzliches/termine/elterngespraechstag-1-gym
END:VEVENT
END:VCALENDAR
