BEGIN:VCALENDAR
VERSION:2.0
PRODID:-//Plone.org//NONSGML plone.app.event//EN
X-WR-TIMEZONE:Europe/Zurich
BEGIN:VEVENT
SUMMARY:EMS-Test (Zulassungsprüfung Medizinstudium)
DTSTART;VALUE=DATE:20230707
DTEND;VALUE=DATE:20230708
DTSTAMP;VALUE=DATE-TIME:20260423T231654Z
UID:32385a6bb25642cba42af445e233950a@127.0.0.1:6081
CREATED;VALUE=DATE-TIME:20230423T155216Z
LAST-MODIFIED;VALUE=DATE-TIME:20230423T155230Z
URL:https://gymnasium.ai.ch/nuetzliches/termine/ems-test-zulassungspruefun
 g-medizinstudium-1
END:VEVENT
END:VCALENDAR
