BEGIN:VCALENDAR
VERSION:2.0
PRODID:-//Plone.org//NONSGML plone.app.event//EN
X-WR-TIMEZONE:Europe/Zurich
BEGIN:VEVENT
SUMMARY:EMS-Test (Zulassungsprüfung Medizinstudium)
DTSTART;VALUE=DATE:20210708
DTEND;VALUE=DATE:20210710
DTSTAMP;VALUE=DATE-TIME:20260424T004825Z
UID:7be9b6c09a90498dbcac971ca320f6d3@127.0.0.1:10150
CREATED;VALUE=DATE-TIME:20210417T152733Z
LAST-MODIFIED;VALUE=DATE-TIME:20210417T152736Z
URL:https://gymnasium.ai.ch/nuetzliches/termine/ems-test-zulassungspruefun
 g-medizinstudium
END:VEVENT
END:VCALENDAR
